BEGIN:VCALENDAR
VERSION:2.0
PRODID:-//Library Market//iCal Export//EN
BEGIN:VEVENT
SUMMARY:Research Interview
UID:5045
DTSTAMP:20260425T135500Z
DTSTART:20260429T190000Z
DTEND:20260429T220000Z
LOCATION:Graves County Public Library, 601 N 17th St., Mayfield, KY 42066,
  United States
ROOM: Fireplace Room
DESCRIPTION:Research interview
URL:https://www.gravescountypubliclibrary.org/event/research-interview-504
 5
END:VEVENT
END:VCALENDAR
