BEGIN:VCALENDAR
VERSION:2.0
PRODID:-//Library Market//iCal Export//EN
BEGIN:VEVENT
SUMMARY:Invictus
UID:5044
DTSTAMP:20260425T141300Z
DTSTART:20260424T220000Z
DTEND:20260424T230000Z
LOCATION:Graves County Public Library, 601 N 17th St., Mayfield, KY 42066,
  United States
ROOM: Fireplace Room
DESCRIPTION:Just a monthly board meeting for our soccer club
URL:https://www.gravescountypubliclibrary.org/event/invictus-5044
END:VEVENT
END:VCALENDAR
