BEGIN:VCALENDAR
VERSION:2.0
PRODID:-//Library Market//iCal Export//EN
BEGIN:VEVENT
SUMMARY:Live Online Author TalksSimple, Sustainable, and Powerfully Delici
 ous Meals with Sana Javeri Kadri and Asha Loupy
UID:5043
DTSTAMP:20260422T224200Z
DTSTART:20260623T180000Z
DTEND:20260623T190000Z
LOCATION:
DESCRIPTION:Register HereJoin us as we chat with Sana Javeri Kadri and Ash
 a Loupy about The Diaspora Spice Co. Cookbook, which celebrates beautiful,
  simple, and seasonal cooking with 85 recipes adapted from India and Sri L
 anka’s best family spice farms.Diaspora Spice Co. sources the most flavo
 rful, fresh spices in the world from 150 regenerative farms across South A
 sia—from elders, indigenous communities, young changemakers, and brillia
 nt multi-generational farming families across India and Sri Lanka who are 
 leading the way in sustainable and climate change–resistant agriculture.
  Filled with culinary storytelling, The Diaspora Spice Co. Cookbook highli
 ghts these farmers and their spices with profiles and evocative photograph
 y, plus 85 recipes for simple, seasonal, and powerfully delicious meals.CE
 O and founder Sana Javeri Kadri and recipe writer Asha Loupy realized that
  eating with the people who grow our spices unveils a whole new dimension 
 in our cooking. Adapted for a global pantry, these recipes share the warmt
 h of true South Asian home cooking at its truest and tastiest.Sana and Ash
 a also note which recipes are the most beginner friendly, freezer friendly
 , good for a dinner party menu (like a Diwali feast!), and which lend them
 selves to be pantry building blocks, all for a super easy-to-navigate cook
 book.Register now to learn more about Diaspora Spice Co., the progressive 
 spice company rooted in flavor and equity. Join us LIVE for a chance to w
 in a copy of The Diaspora Spice Co. Cookbook! The giveaway link will be in
  the Resources area under the broadcast screen during the live event. Plea
 se ensure you are watching on your library&#039;s webpage for the chance t
 o participate. About the Authors:Sana Javeri Kadri is the founder and CEO
  of Diaspora Co., a farm-to-table spice company that puts equity, transpar
 ency, and high-quality products at its forefront. Sana founded the company
  in 2017 with just a turmeric blend; now her company sources 30 single ori
 gin spices from across 150 farms across India and Sri Lanka. A third-gener
 ation native of Mumbai, she now lives in Oakland, California.Asha Loupy is
  a recipe developer and writer with more than a decade of experience in th
 e specialty food industry, from cheese monger to grocery buyer and e-comme
 rce manager. She’s written for Bon Appétit, Food52, Epicurious, and mor
 e. She’s based in Oakland, California.
URL:https://www.gravescountypubliclibrary.org/event/live-online-author-tal
 kssimple-sustainable-and-powerfully-delicious-meals-sana-javeri-kadri
END:VEVENT
END:VCALENDAR
