BEGIN:VCALENDAR
VERSION:2.0
PRODID:-//Library Market//iCal Export//EN
BEGIN:VEVENT
SUMMARY:Live Online Author Talks: Apocalyptic Mayhem, Lava-Spitting Llamas
 , and One Very Sassy Cat: Surviving the Universe’s Most Twisted RPG with
  Matt Dinniman
UID:5040
DTSTAMP:20260422T225800Z
DTSTART:20260611T230000Z
DTEND:20260612T000000Z
LOCATION:
DESCRIPTION:Register HereHold onto your heart-patterned boxers! Matt Dinni
 man, New York Times bestselling author of the wildly popular (and just pla
 in wild) Dungeon Crawler Carl series, joins us to chat about his latest bo
 ok, A Parade of Horribles. As chaos and mass panic spread outside the dun
 geon in the wake of Faction Wars, Carl and Donut find themselves on the te
 nth floor, where they’re forced to compete in a surprisingly normal set 
 of tasks. Well, normal for the dungeon.Races. Get from point A to point B,
  and don’t come in last. After each race, they pick an upgrade for their
  vehicle and the track gets more challenging. It all seems a little too no
 rmal, a little too simple.Ignore those strange glitches that are occurring
  with increasing frequency. Don’t listen to those whispers about what’
 s happening on the mysterious eleventh floor, something the system AI call
 s A Parade of Horribles. Nobody, not even the showrunners, knows what that
  means. Just that the AI has ominously dubbed it “a coming-out party for
  the ages.”Everything is fine, Crawler. I repeat, everything is fine.Car
 l hates that it’s business as usual. The rules of this floor have taken 
 away his agency. That just will not do.So Carl is planning a party of his 
 own. It’s a plan so dangerous, so insane, he can’t even consult his fr
 iends lest the AI put a stop to it. Because if it goes wrong, it’s not j
 ust the end of Carl and Donut. No. The stakes are higher than they’ve ev
 er been.Register now for a fun-filled discussion you won’t want to miss!
 About the Author:Matt Dinniman is a writer and artist from Gig Harbor, Was
 hington. He is the author of the New York Times bestselling Dungeon Crawle
 r Carl series along with several other books about the end of the world. 
 He doesn’t really hate Cocker Spaniels, and he plays bass in one band.
URL:https://www.gravescountypubliclibrary.org/event/live-online-author-tal
 ks-apocalyptic-mayhem-lava-spitting-llamas-and-one-very-sassy-cat
END:VEVENT
END:VCALENDAR
