BEGIN:VCALENDAR
VERSION:2.0
PRODID:-//Library Market//iCal Export//EN
BEGIN:VEVENT
SUMMARY:HBH
UID:5038
DTSTAMP:20260425T135500Z
DTSTART:20260428T204500Z
DTEND:20260428T221500Z
LOCATION:Graves County Public Library, 601 N 17th St., Mayfield, KY 42066,
  United States
ROOM: Fireplace Room
DESCRIPTION:PBSS
URL:https://www.gravescountypubliclibrary.org/event/hbh-5038
END:VEVENT
END:VCALENDAR
